BEGIN:VCALENDAR
VERSION:2.0
PRODID:-//Golf Haryana Official Website - ECPv6.13.2.1//NONSGML v1.0//EN
CALSCALE:GREGORIAN
METHOD:PUBLISH
X-ORIGINAL-URL:https://golfharyana.com
X-WR-CALDESC:Events for Golf Haryana Official Website
REFRESH-INTERVAL;VALUE=DURATION:PT1H
X-Robots-Tag:noindex
X-PUBLISHED-TTL:PT1H
BEGIN:VTIMEZONE
TZID:Asia/Kolkata
BEGIN:STANDARD
TZOFFSETFROM:+0530
TZOFFSETTO:+0530
TZNAME:IST
DTSTART:20230101T000000
END:STANDARD
END:VTIMEZONE
BEGIN:VEVENT
DTSTART;VALUE=DATE:20240212
DTEND;VALUE=DATE:20240216
DTSTAMP:20260419T190007
CREATED:20240125T123045Z
LAST-MODIFIED:20240216T104342Z
UID:1175-1707696000-1708041599@golfharyana.com
SUMMARY:Golf Haryana Gurugram Amateur 2024
DESCRIPTION:Golf Haryana Gurugram Amateur 2024 will be held from 12-15 February 2024 at Golden Greens Golf Club\, Gurugam\, Haryana. \nResults - Golf Haryana Gurugram Amateur - Men\n\n\n\n\n	PositionFirst NameLast NameR1R2R3AGG\n\n\n\n\n	1Tushar Pannu717473218\n\n\n	2AaidulKhan706980219\n\n\n	3DeepinSingh767173220\n\n\n	4NaveenRathi757770222\n\n\n	5MirajulDildaar777275224\n\n\n	6AkashVats757974228\n\n\n	7PrinceBainsla837477234\n\n\n	8RahulKumar807679235\n\n\n	9SujitMaity807580235\n\n\n	10SandeepKumar778577239\n\n\n	11MofajulHussain759076241\n\n\n	12Vivaan Monga838180244\n\n\n	13PulkitKalra838282247\n\n\n	14Mehul Gulati938275250\n\n\n	15KushagraGaur788191250\n\n\n	16Saheb KumarDas918083254\n\n\n	17Shivam-9910090289\n\n\n\n\nResults - Golf Haryana Gurugram Amateur - Women\n\n\n\n\n	PositionFirst NameLast NameR1R2R3AGG\n\n\n\n\n	1YogyaBhalla757576226\n\n\n	2Alysha Dutt797477230\n\n\n	3PrarthanaKhanna767877231\n\n\n	4JiaKochhar848180245\n\n\n	5SakshiKuswaha868696268\n\n\n	6KhushiKhatun898794270\n\n\n	7AksharaKumari919597283\n\n\n	8AngleRai999295286\n\n\n	9AnanyaBharti9494101289\n\n\n	10Chandani Bharti10298104304
URL:https://golfharyana.com/event/golf-haryana-gurugram-amateur-2024/
LOCATION:Golden Greens Golf Club\, Sec 79\, Village\, Sakatpur Road\, Gurugram\, Haryana\, 122002\, India
CATEGORIES:Amateur
ATTACH;FMTTYPE=image/png:https://golfharyana.com/wp-content/uploads/2024/01/GH-GA-Feb-copy.png
END:VEVENT
BEGIN:VEVENT
DTSTART;VALUE=DATE:20240212
DTEND;VALUE=DATE:20240216
DTSTAMP:20260419T190007
CREATED:20240125T122558Z
LAST-MODIFIED:20240216T111036Z
UID:1171-1707696000-1708041599@golfharyana.com
SUMMARY:Golf Haryana Gurugram Junior 2024
DESCRIPTION:Golf Haryana Gurugram Junior 2024 will be held from 12-15 February 2024 at Golden Greens Golf Club\, Gurugam\, Haryana. \nResults - Golf Haryana Gurugram Junior - Boys (A&B)\n\n\n\n\n	PositionFirst NameLast NameR1R2R3AGG\n\n\n\n\n	1NaveenRathi757770222\n\n\n	2PrinceBainsla837477234\n\n\n	3SujitMaity807580235\n\n\n	4Mofajul Hussain759076241\n\n\n	5VivaanMonga838180244\n\n\n	6PulkitKalra838282247\n\n\n	7Saheb KumarDas918083254\n\n\n	8Shivam-9910090289\n\n\n\n\nResults - Golf Haryana Gurugram Junior - Boys (B)\n\n\n\n\n	PositionFirst NameLast NameR1R2R3AGG\n\n\n\n\n	1Prince Bainsla837477234\n\n\n	2Vivaan Monga838180244\n\n\n	3Shivam-9910090289\n\n\n\n\nResults - Golf Haryana Gurugram Junior - Boys (C)\n\n\n\n\n	PositionFirst NameLast NameR1R2R3AGG\n\n\n\n\n	1Vivaan RaiSingh7977NA156\n\n\n	2HeydaanBajaj8477NA161\n\n\n	3RishabBoken8785NA172\n\n\n	4RudranshGarg10089NA189\n\n\n	5TejasSingh101102NA203\n\n\n\n\nResults - Golf Haryana Gurugram Junior - Boys (D)\n\n\n\n\n	PositionFirst NameLast NameR1R2R3AGG\n\n\n\n\n	1AvviraajKalia8684NA170\n\n\n	2MusaNaqib9596NA191\n\n\n\n\nResults - Golf Haryana Gurugram Junior - Boys (E)\n\n\n\n\n	PositionFirst NameLast NameR1R2R3AGG\n\n\n\n\n	1TaanushKumar3941NA80\n\n\n\n\nResults - Golf Haryana Gurugram Junior - Girls (A&B)\n\n\n\n\n	PositionFirst NameLast NameR1R2R3AGG\n\n\n\n\n	1Yogya Bhalla757576226\n\n\n	2AlyshaDutt797477230\n\n\n	3PrarthanaKhanna767877231\n\n\n\n\nResults - Golf Haryana Gurugram Junior - Girls (B)\n\n\n\n\n	PositionFirst NameLast NameR1R2R3AGG\n\n\n\n\n	1Yogya Bhalla757576226\n\n\n	2PrarthanaKhanna767877231\n\n\n\n\nResults - Golf Haryana Gurugram Junior - Girls (D)\n\n\n\n\n	PositionFirst NameLast NameR1R2R3AGG\n\n\n\n\n	1AadyaKaushal101103NA204\n\n\n\n\nResults - Golf Haryana Gurugram Junior - Girls (E)\n\n\n\n\n	PositionFirst NameLast NameR1R2R3AGG\n\n\n\n\n	1BrishaSingh7568NA143
URL:https://golfharyana.com/event/golf-haryana-gurugram-junior-2024/
LOCATION:Golden Greens Golf Club\, Sec 79\, Village\, Sakatpur Road\, Gurugram\, Haryana\, 122002\, India
CATEGORIES:Junior
ATTACH;FMTTYPE=image/png:https://golfharyana.com/wp-content/uploads/2024/01/GH-G-JUN-copy.png
END:VEVENT
BEGIN:VEVENT
DTSTART;TZID=Asia/Kolkata:20231217T063000
DTEND;TZID=Asia/Kolkata:20231217T140000
DTSTAMP:20260419T190007
CREATED:20231219T121106Z
LAST-MODIFIED:20231219T121106Z
UID:1157-1702794600-1702821600@golfharyana.com
SUMMARY:Grandeur Aravalli Cup 2023
DESCRIPTION:Grandeur Aravalli Cup by Golf Federation of Haryana will be held on 17 December 2023 at Aravalli Golf Course\, Faridabad.
URL:https://golfharyana.com/event/grandeur-aravalli-cup-2023/
LOCATION:Haryana
CATEGORIES:Amateur
ATTACH;FMTTYPE=image/jpeg:https://golfharyana.com/wp-content/uploads/2023/12/PHOTO-2023-12-15-09-35-13.jpg
END:VEVENT
BEGIN:VEVENT
DTSTART;VALUE=DATE:20230919
DTEND;VALUE=DATE:20230923
DTSTAMP:20260419T190007
CREATED:20230908T085826Z
LAST-MODIFIED:20230924T043903Z
UID:982-1695081600-1695427199@golfharyana.com
SUMMARY:Golf Haryana Golden Greens Senior Amateur 2023
DESCRIPTION:Golf Haryana Golden Greens Senior Amateur 2023 will be held at Golden Greens Golf Club\, Gurugram from 19-22 Sep 2023. \nResults - Golf Haryana Golden Greens Senior Amateur - Men\n\n\n\n\n	PositionFirst NameLast NameR1R2R3AGG\n\n\n\n\n	1VirenderMalik858178244\n\n\n	2DebobrotoChakraborty798581245\n\n\n	3Neeraj Wadhera779376246\n\n\n	4NareshKumar838083246\n\n\n	5AjayDheer838292257\n\n\n	6GurinderRana908683259\n\n\n	7PraveenGrover9196162349(WD)\n\n\n	8DeepakArora130162162454(WD)
URL:https://golfharyana.com/event/golf-haryana-golden-greens-senior-amateur-2023/
LOCATION:Golden Greens Golf Club\, Sec 79\, Village\, Sakatpur Road\, Gurugram\, Haryana\, 122002\, India
CATEGORIES:Senior
ATTACH;FMTTYPE=image/png:https://golfharyana.com/wp-content/uploads/2023/09/Copy-of-SENIOR-AM.png
END:VEVENT
BEGIN:VEVENT
DTSTART;VALUE=DATE:20230919
DTEND;VALUE=DATE:20230923
DTSTAMP:20260419T190007
CREATED:20230908T085548Z
LAST-MODIFIED:20230924T044753Z
UID:979-1695081600-1695427199@golfharyana.com
SUMMARY:Golf Haryana Golden Greens Mid-Amateur 2023
DESCRIPTION:Golf Haryana Golden Greens Mid-Amateur 2023 will be held at Golden Greens Golf Club\, Gurugram from 19-22 Sep 2023 \nResults - Golf Haryana Golden Greens Mid-Amateur  - Men\n\n\n\n\n	PositionFirst NameLast NameR1R2R3AGG\n\n\n\n\n	1RishiPoddar838083246\n\n\n	2Gaurav Sehgal839177251\n\n\n	3AnuragSharma899286267\n\n\n	4Sartaj SinghMehta919188270\n\n\n	5Gaurav Bhadrish949697287\n\n\n	6DheerajGarg98100107305
URL:https://golfharyana.com/event/golf-haryana-golden-greens-mid-amateur-2023/
LOCATION:Golden Greens Golf Club\, Sec 79\, Village\, Sakatpur Road\, Gurugram\, Haryana\, 122002\, India
CATEGORIES:Mid-Amateur
ATTACH;FMTTYPE=image/png:https://golfharyana.com/wp-content/uploads/2023/09/Copy-of-Mid-Am-2-1.png
END:VEVENT
BEGIN:VEVENT
DTSTART;VALUE=DATE:20230905
DTEND;VALUE=DATE:20230909
DTSTAMP:20260419T190007
CREATED:20230828T080719Z
LAST-MODIFIED:20230909T114724Z
UID:945-1693872000-1694217599@golfharyana.com
SUMMARY:Golf Haryana Golden Greens Amateur 2023
DESCRIPTION:Golf Haryana Golden Greens Amateur 2023 will be held from 05-08 September 2023 at Golden Greens Golf Club\, Gururgam\, Haryana. \nResults - Golf Haryana Golden Greens Amateur - Men\n\n\n\n\n	PositionFirst NameLast NameR1R2R3AGG\n\n\n\n\n	1NaveenRathi706778215\n\n\n	2TusharPannu767368217\n\n\n	3RohitBoken757675226\n\n\n	4PrinceBainsla737776226\n\n\n	5AaidulKhan757776228\n\n\n	6Arjun Dahiya768175232\n\n\n	7RajyeveerSultania737881232\n\n\n	8RahulKumar807183234\n\n\n	9KritanshKapoor797283234\n\n\n	10SandeepKumar797977235\n\n\n	11PulkitKalra787978235\n\n\n	12SujitMaity827778237\n\n\n	13Saheb KumarDas797979237\n\n\n	14MirajulDildaar808082242\n\n\n	15Kushagra Gaur897687252\n\n\n	16Shivam-10811698322\n\n\n\n\nResults - Golf Haryana Golden Greens Amateur - Ladies\n\n\n\n\n	PositionFirst NameLast NameR1R2R3AGG\n\n\n\n\n	1PalakshiSiingh777374224\n\n\n	2AlyshaDutt797772228\n\n\n	3Prarthana Khanna758073228\n\n\n	4HeenaKang758372230\n\n\n	5RiyaJadon748177232\n\n\n	6AnvviDahhiya757880233\n\n\n	7Preitisha KaurGill847577236\n\n\n	8CeeratKang787583236\n\n\n	9Sakshi Kuswaha937890261\n\n\n	10YogyaBhalla140162162464 (WD)\n\n\n\n\n 
URL:https://golfharyana.com/event/golf-haryana-golden-greens-amateur-2023-2/
LOCATION:Golden Greens Golf Club\, Sec 79\, Village\, Sakatpur Road\, Gurugram\, Haryana\, 122002\, India
CATEGORIES:Amateur
ATTACH;FMTTYPE=image/png:https://golfharyana.com/wp-content/uploads/2023/08/GH-GG-Sep-copy.png
END:VEVENT
BEGIN:VEVENT
DTSTART;VALUE=DATE:20230905
DTEND;VALUE=DATE:20230909
DTSTAMP:20260419T190007
CREATED:20230828T080906Z
LAST-MODIFIED:20230909T123001Z
UID:950-1693872000-1694217599@golfharyana.com
SUMMARY:Golf Haryana Golden Greens Junior 2023
DESCRIPTION:Golf Haryana Golden Greens Junior 2023 will be held from 05-08 September 2023 at Golden Greens Golf Club\, Gurugam\, Haryana. \nResults - Golf Haryana Golden Greens Junior - Boys A&B\n\n\n\n\n	PositionFirst NameLast NameR1R2R3AGG\n\n\n\n\n	1NaveenRathi706778215\n\n\n	2PrinceBainsla737776226\n\n\n	3ArjunDahiya768175232\n\n\n	4KritanshKapoor797283234\n\n\n	5Pulkit Kalra787978235\n\n\n	6SujitMaity827778237\n\n\n	7Saheb KumarDas797979237\n\n\n	8Shivam-10811698322\n\n\n\n\nResults - Golf Haryana Golden Greens Junior - Boys B\n\n\n\n\n	PositionFirst NameLast NameR1R2R3AGG\n\n\n\n\n	1PrinceBainsla737776226\n\n\n	2Arjun Dahiya768175232\n\n\n	3Shivam-10811698322\n\n\n\n\nResults - Golf Haryana Golden Greens Junior - Boys C\n\n\n\n\n	PositionFirst NameLast NameR1R2R3AGG\n\n\n\n\n	1Dhruv VSingh8882NA170\n\n\n	2HeydaanBajaj8786NA173\n\n\n	3Vivaan RaiSingh8689NA175\n\n\n	4Rishabh-8897NA185\n\n\n	5AnkitGupta93101NA194\n\n\n\n\nResults - Golf Haryana Golden Greens Junior - Boys D\n\n\n\n\n	PositionFirst NameLast NameR1R2R3AGG\n\n\n\n\n	1Drona SinghDhull8386NA169\n\n\n	2RudranshGarg109102NA211\n\n\n\n\nResults - Golf Haryana Golden Greens Junior - Boys E\n\n\n\n\n	PositionFirst NameLast NameR1R2R3AGG\n\n\n\n\n	1SamarSingh5956NA115\n\n\n	2MusaNaqib6058NA118\n\n\n\n\nResults - Golf Haryana Golden Greens Junior - Girls A&B\n\n\n\n\n	PositionFirst NameLast NameR1R2R3AGG\n\n\n\n\n	1Palakshi Siingh777374224\n\n\n	2Alysha Dutt797772228\n\n\n	3Prarthana Khanna758073228\n\n\n	4RiyaJadon748177232\n\n\n	5Anvvi Dahhiya757880233\n\n\n	6Preitisha KaurGill847577236\n\n\n	7CeeratKang787583236\n\n\n	8Yogya Bhalla140162162464 (WD)\n\n\n\n\nResults - Golf Haryana Golden Greens Junior - Girls B\n\n\n\n\n	PositionFirst NameLast NameR1R2R3AGG\n\n\n\n\n	1Prarthana Khanna758073228\n\n\n	2RiyaJadon748177232\n\n\n	3Yogya Bhalla140162162464 (WD)\n\n\n\n\nResults - Golf Haryana Golden Greens Junior - Girls C\n\n\n\n\n	PositionFirst NameLast NameR1R2R3AGG\n\n\n\n\n	1ParisaMonga9791NA188\n\n\n\n\n  \n 
URL:https://golfharyana.com/event/golf-haryana-golden-greens-junior-2023/
LOCATION:Golden Greens Golf Club\, Sec 79\, Village\, Sakatpur Road\, Gurugram\, Haryana\, 122002\, India
CATEGORIES:Junior
ATTACH;FMTTYPE=image/png:https://golfharyana.com/wp-content/uploads/2023/08/GH-Jun-GG-Sep-copy.png
END:VEVENT
BEGIN:VEVENT
DTSTART;VALUE=DATE:20230822
DTEND;VALUE=DATE:20230826
DTSTAMP:20260419T190007
CREATED:20230731T064106Z
LAST-MODIFIED:20230826T085109Z
UID:532-1692662400-1693007999@golfharyana.com
SUMMARY:Golf Haryana Classic Amateur
DESCRIPTION:Golf Haryana’s Classic Amateur will be held at Classic Golf and Country Club from 22-25 August 2023. \n \nResults - Golf Haryana Classic Amateur - Men\n\n\n\n\n	Final PositionFirst NameLast NameRD1RD2RD3AGG\n\n\n\n\n	1TusharPannu716775213\n\n\n	2Naveen Rathi717575221\n\n\n	3Harman Sachdeva747574223\n\n\n	4PrinceBainsla737675224\n\n\n	5Rohit Boken797275226\n\n\n	6MirajulDildaar787377228\n\n\n	7ArjunSingh807981240\n\n\n	8AaidulKhan798381243\n\n\n	9SandeepKumar888276246\n\n\n	10Rajyeveer Sultania797990248\n\n\n	11SujitMaity848581250\n\n\n	12Arjun Dabas849093267\n\n\n	13Ankit Gupta105102100307\n\n\n	14Yash Suhag6979162310 (DQ)\n\n\n	15Mrityunjay Morang112162162436 (WD)\n\n\n	16KrishavMorang127162162451 (WD)\n\n\n\n\n\nResults - Golf Haryana Classic Amateur - Ladies\n\n\n\n\n	Final PositionFirst NameLast NameRD1RD2RD3AGG\n\n\n\n\n	1RiyaJadon747373220\n\n\n	2Yogya Bhalla717774222\n\n\n	3Prarthana Khanna767572223\n\n\n	4HeenaKang737379225\n\n\n	5PalakshiSiingh747973226\n\n\n	6Preitisha Kaur Gill817573229\n\n\n	7CeeratKang797973231\n\n\n	8NanditaKumar787877233\n\n\n	9Anvvi Dahhiya807778235\n\n\n	10Yaashna Duggal899098277\n\n\n	11SakshiKuswaha1039191285\n\n\n	12YashitaRaghav74105162341 (WD)
URL:https://golfharyana.com/event/golf-haryana-classic-amateur-2023/
LOCATION:Classic Golf and Country Club\, P.O. Hasanpur\, Tauru\, Gurugram\, Haryana\, 122105\, India
CATEGORIES:Amateur
ATTACH;FMTTYPE=image/png:https://golfharyana.com/wp-content/uploads/2023/07/CLA.png
END:VEVENT
BEGIN:VEVENT
DTSTART;VALUE=DATE:20230817
DTEND;VALUE=DATE:20230821
DTSTAMP:20260419T190007
CREATED:20230728T094857Z
LAST-MODIFIED:20230826T083544Z
UID:510-1692230400-1692575999@golfharyana.com
SUMMARY:Golf Haryana Golden Greens Amateur
DESCRIPTION:Golf Haryana’s Golden Greens Amateur 2023 will be held at Golden Greens Golf Club from 17-20th August 2023. \n \n\n\n\n\n	Final PositionFirst NameLast NameRD1RD2RD3AGG\n\n\n\n\n	1TusharPannu777364214\n\n\n	2YashSuhag787170219\n\n\n	3MirajulDildaar756779221\n\n\n	4KritanshKapoor717777225\n\n\n	5RohitBoken757179225\n\n\n	6Sandeep Kumar758170226\n\n\n	7RajyeveerSultania817574230\n\n\n	8AaidulKhan827375230\n\n\n	9Vivaan Monga777981237\n\n\n	10SujitMaity818077238\n\n\n	11SunilRawat788678242\n\n\n	12Shivam-10211197310\n\n\n\n\nResults - Golf Haryana Golden Greens Amateur - Ladies\n\n\n\n\n	Final PositionFirst NameLast NameRD1RD2RD3AGG\n\n\n\n\n	1Prarthana Khanna737373219\n\n\n	2Anvvi Dahhiya697774220\n\n\n	3PalakshiSiingh717575221\n\n\n	4Alysha Dutt707280222\n\n\n	5Riya Jadon747376223\n\n\n	6Lavanya Jadon737873224\n\n\n	7YashitaRaghav727280224\n\n\n	8Preitisha KaurGill767476226\n\n\n	9Riddhima Singh888277247\n\n\n	10Sakshi Kuswaha918783261\n\n\n	11Yaashna Duggal939696285
URL:https://golfharyana.com/event/golf-haryana-golden-greens-amateur-2023/
LOCATION:Golden Greens Golf Club\, Sec 79\, Village\, Sakatpur Road\, Gurugram\, Haryana\, 122002\, India
CATEGORIES:Amateur
ATTACH;FMTTYPE=image/png:https://golfharyana.com/wp-content/uploads/2023/07/GG.png
END:VEVENT
BEGIN:VEVENT
DTSTART;VALUE=DATE:20230817
DTEND;VALUE=DATE:20230821
DTSTAMP:20260419T190007
CREATED:20230730T054841Z
LAST-MODIFIED:20230826T082010Z
UID:625-1692230400-1692575999@golfharyana.com
SUMMARY:Golf Haryana Golden Greens Junior
DESCRIPTION:Golf Haryana’s Golden Greens Junior 2023 will be held at Golden Greens Golf Club from 17-20 August 2023. \nResults - Golf Haryana Golden Greens Junior - Boys (A&B)\n\n\n\n\n\n	Finish PositionFirst NameSurnameR1R2R3AGG\n\n\n\n\n	1KritanshKapoor717777225\n\n\n	2VivaanMonga777981237\n\n\n	3SujitMaity818077238\n\n\n	4Shivam-10211197310\n\n\n\n \nResults - Golf Haryana Golden Greens Junior - Boys (B)\n\n\n\n\n	Finish PositionFirst NameSurnameR1R2R3AGG\n\n\n\n\n	1VivanMonga777981237\n\n\n	2Shivam-10211197310\n\n\n\n\nResults - Golf Haryana Golden Green Junior - Boys (C)\n\n\n\n\n	Finish PositionFirst NameLast NameR1R2R3AGG\n\n\n\n\n	1Vivaan RaiSingh8783NA170\n\n\n	2Dhruv VSingh8490NA174\n\n\n	3Rishabh-9185NA176\n\n\n	4HeydaanBajaj9086NA176\n\n\n\n\n\nResults - Golf Haryana Golden Greens Junior - Boys (D)\n\n\n\n\n	Final PositionFirst NameLast NameR1R2R3AGG\n\n\n\n\n	1AayushKataria8882NA170\n\n\n	2Drona SinghDhull9597NA192\n\n\n\n\n\nResults - Golf Haryana Golden Greens Junior - Boys (E)\n\n\n\n\n	Final Position First NameLast NameR1R2R3AGG\n\n\n\n\n	1ReyanshAhlawat4846NA94\n\n\n	2Musa Naqib5562NA\n\n\n\n\n\nResults - Golf Haryana Golden Greens Junior - Girls (A&B)\n\n\n\n\n	Final PositionFirst NameLast NameR1R2R3AGG\n\n\n\n\n	1Prarthana Khanna737373219\n\n\n	2Anvvi Dahhiya697774220\n\n\n	3PalakshiSiingh717575221\n\n\n	4AlyshaDutt707280222\n\n\n	5RiyaJadon747376223\n\n\n	6LavanyaJadon737873224\n\n\n	7Preitisha Kaur Gill767476226\n\n\n	8Riddhima Singh888277247\n\n\n	9SakshiKuswaha918783261\n\n\n	10Yaashna Duggal939696285\n\n\n\n\n\nResults - Golf Haryana Golden Greens Junior - Girls (B)\n\n\n\n\n	Final PositionFirst NameLast NameR1R2R3AGG\n\n\n\n\n	1Prarthana Khanna737373219\n\n\n	2Riddhima Singh888277247\n\n\n	3YaashnaDuggal939696285\n\n\n\n\n\nResults - Golf Haryana Golden Greens Junior - Girls (C)\n\n\n\n\n	Final PositionFirst NameLast NameR1R2R3AGG\n\n\n\n\n	1Smira Bhambri8283NA165\n\n\n	2SanviAhlawat8485NA169\n\n\n	3ParisaMonga9386NA179\n\n\n	4Teesta SinghSikarwar9590NA185\n\n\n\n\n\nResults - Golf Haryana Golden Greens Junior - Girls (D)\n\n\n\n\n	Final PositionFirst NameLast NameR1R2R3AGG\n\n\n\n\n	1PadamVibhuti9393NA186\n\n\n\n\n\nResults - Golf Haryana Golden Greens Junior - Girls (E)\n\n\n\n\n	Final PositionFirst NameLast NameRD1RD2RD3AGG\n\n\n\n\n	1Unnati Singh4038NA78\n\n\n	2Dhriti Singh4441NA85\n\n\n\n\n\n 
URL:https://golfharyana.com/event/golf-haryana-golden-greens-junior-open-2023/
LOCATION:Golden Greens Golf Club\, Sec 79\, Village\, Sakatpur Road\, Gurugram\, Haryana\, 122002\, India
CATEGORIES:Junior
ATTACH;FMTTYPE=image/png:https://golfharyana.com/wp-content/uploads/2023/07/GGJ.png
END:VEVENT
END:VCALENDAR